BEGIN:VCALENDAR
VERSION:2.0
PRODID:-//Tukios.com/
BEGIN:VEVENT
UID:8e7eedb4-826c-4db6-9b2f-4e6b7e2c3dfc@www.floydawilliamsfuneralhome.com
DTSTAMP:20260423T102847Z
DTSTART:20260501T150000Z
DTEND:20260501T160000Z
SUMMARY:Funeral Service
DESCRIPTION:
URL:https://www.floydawilliamsfuneralhome.com/obituaries/antonio-washington
LOCATION:Floyd A. Williams Funeral Home 490 Columbia Road  Boston MA 
	02125
GEO:42.3144132;-71.0678362
END:VEVENT
END:VCALENDAR