BEGIN:VCALENDAR
VERSION:2.0
PRODID:-//Tukios.com/
BEGIN:VEVENT
UID:4598c983-a529-416f-8f5f-c0e9cc7b86cd@www.floydawilliamsfuneralhome.com
DTSTAMP:20260423T102041Z
DTSTART:20260501T140000Z
DTEND:20260501T150000Z
SUMMARY:Public Viewing
DESCRIPTION:
URL:https://www.floydawilliamsfuneralhome.com/obituaries/antonio-washington
LOCATION:Floyd A. Williams Funeral Home 490 Columbia Road  Boston MA 
	02125
GEO:42.3144878;-71.0678371
END:VEVENT
END:VCALENDAR