BEGIN:VCALENDAR
VERSION:2.0
PRODID:-//Tukios.com/
BEGIN:VEVENT
UID:00225abd-db55-4613-8ae6-c1aa656cc657@www.floydawilliamsfuneralhome.com
DTSTAMP:20260423T085631Z
DTSTART:20260421T190000Z
DTEND:20260421T230000Z
SUMMARY:Memorial Service
DESCRIPTION:
URL:https://www.floydawilliamsfuneralhome.com/obituaries/bryan-winston
LOCATION:Prince Hall Grand Lodge 24 Washington Street  Dorchester MA 
	02121
GEO:42.3077281;-71.081997
END:VEVENT
END:VCALENDAR